BEGIN:VCALENDAR
VERSION:2.0
PRODID:-//Mid-Atlantic Super Series - ECPv6.11.2.1//NONSGML v1.0//EN
CALSCALE:GREGORIAN
METHOD:PUBLISH
X-WR-CALNAME:Mid-Atlantic Super Series
X-ORIGINAL-URL:https://www.masuperseries.com
X-WR-CALDESC:Events for Mid-Atlantic Super Series
REFRESH-INTERVAL;VALUE=DURATION:PT1H
X-Robots-Tag:noindex
X-PUBLISHED-TTL:PT1H
BEGIN:VTIMEZONE
TZID:America/New_York
BEGIN:DAYLIGHT
TZOFFSETFROM:-0500
TZOFFSETTO:-0400
TZNAME:EDT
DTSTART:20220313T070000
END:DAYLIGHT
BEGIN:STANDARD
TZOFFSETFROM:-0400
TZOFFSETTO:-0500
TZNAME:EST
DTSTART:20221106T060000
END:STANDARD
END:VTIMEZONE
BEGIN:VEVENT
DTSTART;VALUE=DATE:20220716
DTEND;VALUE=DATE:20220717
DTSTAMP:20260424T024246
CREATED:20220113T164203Z
LAST-MODIFIED:20220412T144333Z
UID:931-1657929600-1658015999@www.masuperseries.com
SUMMARY:Escape Granogue XC & Endurance Race
DESCRIPTION:
URL:https://www.masuperseries.com/race/escape-granogue-xc-endurance-race-2022/
LOCATION:Wilmington\, DE\, 2900 Montchanin Road\, Wilmington\, DE\, 19807\, United States
CATEGORIES:Endurance,XC
END:VEVENT
END:VCALENDAR