BEGIN:VCALENDAR
VERSION:2.0
PRODID:-//Mid-Atlantic Super Series - ECPv6.11.2.1//NONSGML v1.0//EN
CALSCALE:GREGORIAN
METHOD:PUBLISH
X-WR-CALNAME:Mid-Atlantic Super Series
X-ORIGINAL-URL:https://www.masuperseries.com
X-WR-CALDESC:Events for Mid-Atlantic Super Series
REFRESH-INTERVAL;VALUE=DURATION:PT1H
X-Robots-Tag:noindex
X-PUBLISHED-TTL:PT1H
BEGIN:VTIMEZONE
TZID:America/New_York
BEGIN:DAYLIGHT
TZOFFSETFROM:-0500
TZOFFSETTO:-0400
TZNAME:EDT
DTSTART:20220313T070000
END:DAYLIGHT
BEGIN:STANDARD
TZOFFSETFROM:-0400
TZOFFSETTO:-0500
TZNAME:EST
DTSTART:20221106T060000
END:STANDARD
END:VTIMEZONE
BEGIN:VEVENT
DTSTART;VALUE=DATE:20221016
DTEND;VALUE=DATE:20221017
DTSTAMP:20260423T175832
CREATED:20220225T193231Z
LAST-MODIFIED:20220907T182120Z
UID:965-1665878400-1665964799@www.masuperseries.com
SUMMARY:Glen Park Fall Sender Enduro
DESCRIPTION:
URL:https://www.masuperseries.com/race/glen-park-fall-enduro-2022/
LOCATION:Stroudsburg\, PA
CATEGORIES:Enduro
END:VEVENT
END:VCALENDAR