BEGIN:VCALENDAR
VERSION:2.0
PRODID:-//Mid-Atlantic Super Series - ECPv6.11.2.1//NONSGML v1.0//EN
CALSCALE:GREGORIAN
METHOD:PUBLISH
X-WR-CALNAME:Mid-Atlantic Super Series
X-ORIGINAL-URL:https://www.masuperseries.com
X-WR-CALDESC:Events for Mid-Atlantic Super Series
REFRESH-INTERVAL;VALUE=DURATION:PT1H
X-Robots-Tag:noindex
X-PUBLISHED-TTL:PT1H
BEGIN:VTIMEZONE
TZID:America/New_York
BEGIN:DAYLIGHT
TZOFFSETFROM:-0500
TZOFFSETTO:-0400
TZNAME:EDT
DTSTART:20220313T070000
END:DAYLIGHT
BEGIN:STANDARD
TZOFFSETFROM:-0400
TZOFFSETTO:-0500
TZNAME:EST
DTSTART:20221106T060000
END:STANDARD
END:VTIMEZONE
BEGIN:VEVENT
DTSTART;VALUE=DATE:20220618
DTEND;VALUE=DATE:20220619
DTSTAMP:20260424T094258
CREATED:20220113T163836Z
LAST-MODIFIED:20220619T111017Z
UID:927-1655510400-1655596799@www.masuperseries.com
SUMMARY:Challenger MTB Race - XC & Endurance
DESCRIPTION:Rain Date August 1st
URL:https://www.masuperseries.com/race/challenger-mtb-race-2022/
LOCATION:Camden County College\, NJ
CATEGORIES:XC
END:VEVENT
END:VCALENDAR